BEGIN:VCALENDAR
VERSION:2.0
PRODID:-//Animal Learning Systems - ECPv6.15.0//NONSGML v1.0//EN
CALSCALE:GREGORIAN
METHOD:PUBLISH
X-ORIGINAL-URL:https://animallearningsystems.com
X-WR-CALDESC:Events for Animal Learning Systems
REFRESH-INTERVAL;VALUE=DURATION:PT1H
X-Robots-Tag:noindex
X-PUBLISHED-TTL:PT1H
BEGIN:VTIMEZONE
TZID:UTC
BEGIN:STANDARD
TZOFFSETFROM:+0000
TZOFFSETTO:+0000
TZNAME:UTC
DTSTART:20260101T000000
END:STANDARD
END:VTIMEZONE
BEGIN:VEVENT
DTSTART;TZID=UTC:20260609T183000
DTEND;TZID=UTC:20260609T193000
DTSTAMP:20260424T131027
CREATED:20240318T184300Z
LAST-MODIFIED:20260423T145820Z
UID:1916-1781029800-1781033400@animallearningsystems.com
SUMMARY:Grosse Pointe Level One Family Training Course Begins!
DESCRIPTION:Welcome to our small group Family Training Course! This Course covers all aspects of basic training and care and handling for dogs and puppies along with their families. All dogs start at Level 1\, Week 1 and we welcome dogs ages 8 weeks and up. Class will take place in Grosse Pointe Farms on Tuesday evenings from 6:30pm to 7:30pm\, from June 9 through July 14. \n\n\nCall\, email or web chat for more information and to enroll. We look forward to having you in class! \n\n\nInfo@AnimalLearningSystems.com \n\n\n313-882-6180
URL:https://animallearningsystems.com/event/grosse-pointe-level-one-family-training-course-begins-4/
LOCATION:St. Paul Evangelical Lutheran Church\, 375 Lothrop\, Grosse Pointe Farms\, MI\, 48236\, United States
CATEGORIES:Courses
ATTACH;FMTTYPE=image/jpeg:https://animallearningsystems.com/wp-content/uploads/2018/06/IMG_0626.jpg
ORGANIZER;CN="Animal Learning Systems":MAILTO:info@animallearningsystems.com
END:VEVENT
END:VCALENDAR